Package: scp Version: 1.19.0 Maintainer: Christophe Vanderaa MaintainerEmail: christophe.vanderaa at ugent.be git_url: https://git.bioconductor.org/packages/scp git_branch: devel git_last_commit: e69ff5e git_last_commit_date: 2025-04-15 12:11:18 -0400 (Tue, 15 Apr 2025)