Package: scoreInvHap Version: 1.29.0 Command: E:\biocbuild\bbs-3.21-bioc\R\bin\R.exe CMD INSTALL scoreInvHap StartedAt: 2025-02-16 16:24:56 -0500 (Sun, 16 Feb 2025) EndedAt: 2025-02-16 16:25:54 -0500 (Sun, 16 Feb 2025) EllapsedTime: 57.9 seconds RetCode: 0 Status: OK