Package: scoreInvHap Version: 1.31.0 Command: /home/biocbuild/bbs-3.22-bioc/R/bin/R CMD INSTALL scoreInvHap StartedAt: 2025-10-06 15:39:25 -0400 (Mon, 06 Oct 2025) EndedAt: 2025-10-06 15:40:06 -0400 (Mon, 06 Oct 2025) EllapsedTime: 40.7 seconds RetCode: 0 Status: OK