Package: scoreInvHap Version: 1.29.0 Command: /home/biocbuild/bbs-3.21-bioc/R/bin/R CMD check --install=check:scoreInvHap.install-out.txt --library=/home/biocbuild/bbs-3.21-bioc/R/site-library --timings scoreInvHap_1.29.0.tar.gz StartedAt: 2025-02-17 02:02:27 -0500 (Mon, 17 Feb 2025) EndedAt: 2025-02-17 02:07:25 -0500 (Mon, 17 Feb 2025) EllapsedTime: 297.4 seconds RetCode: 0 Status: OK CheckDir: scoreInvHap.Rcheck Warnings: 0