Package: scone Version: 1.31.0 Command: rm -rf scone.buildbin-libdir && mkdir scone.buildbin-libdir && E:\biocbuild\bbs-3.21-bioc\R\bin\R.exe CMD INSTALL --build --library=scone.buildbin-libdir scone_1.31.0.tar.gz StartedAt: 2025-02-03 08:12:41 -0500 (Mon, 03 Feb 2025) EndedAt: 2025-02-03 08:14:05 -0500 (Mon, 03 Feb 2025) EllapsedTime: 83.7 seconds RetCode: 0 Status: OK PackageFile: scone_1.31.0.zip PackageFileSize: 1.013 MiB