Package: scone Version: 1.31.0 Command: /home/biocbuild/R/R/bin/R CMD INSTALL scone StartedAt: 2025-01-29 20:16:51 -0000 (Wed, 29 Jan 2025) EndedAt: 2025-01-29 20:18:05 -0000 (Wed, 29 Jan 2025) EllapsedTime: 73.8 seconds RetCode: 0 Status: OK