Package: scone Version: 1.31.0 Command: /Library/Frameworks/R.framework/Resources/bin/R CMD build --keep-empty-dirs --no-resave-data scone StartedAt: 2025-02-03 18:08:46 -0500 (Mon, 03 Feb 2025) EndedAt: 2025-02-03 18:09:47 -0500 (Mon, 03 Feb 2025) EllapsedTime: 60.7 seconds RetCode: 1 Status: ERROR PackageFile: None PackageFileSize: NA