Package: scmeth Version: 1.27.0 Command: chmod a+r scmeth -R && E:\biocbuild\bbs-3.21-bioc\R\bin\R.exe CMD build --keep-empty-dirs --no-resave-data scmeth StartedAt: 2025-02-03 21:41:45 -0500 (Mon, 03 Feb 2025) EndedAt: 2025-02-03 21:44:17 -0500 (Mon, 03 Feb 2025) EllapsedTime: 151.0 seconds RetCode: 0 Status: OK PackageFile: scmeth_1.27.0.tar.gz PackageFileSize: 740.5 KiB