Package: scmeth Version: 1.27.0 Command: /Library/Frameworks/R.framework/Resources/bin/R CMD INSTALL scmeth StartedAt: 2025-02-03 15:28:45 -0500 (Mon, 03 Feb 2025) EndedAt: 2025-02-03 15:29:45 -0500 (Mon, 03 Feb 2025) EllapsedTime: 60.2 seconds RetCode: 0 Status: OK