Package: scmeth Version: 1.27.0 Command: /home/biocbuild/R/R/bin/R CMD INSTALL scmeth StartedAt: 2025-01-29 20:04:21 -0000 (Wed, 29 Jan 2025) EndedAt: 2025-01-29 20:05:22 -0000 (Wed, 29 Jan 2025) EllapsedTime: 60.5 seconds RetCode: 0 Status: OK