Package: scmeth Version: 1.27.0 Command: /home/biocbuild/R/R/bin/R CMD build --keep-empty-dirs --no-resave-data scmeth StartedAt: 2025-01-29 02:07:19 -0000 (Wed, 29 Jan 2025) EndedAt: 2025-01-29 02:09:18 -0000 (Wed, 29 Jan 2025) EllapsedTime: 119.1 seconds RetCode: 0 Status: OK PackageFile: scmeth_1.27.0.tar.gz PackageFileSize: 793.9 KiB