Package: scmap Version: 1.31.0 Command: rm -rf scmap.buildbin-libdir && mkdir scmap.buildbin-libdir && /Users/biocbuild/BBS/utils/build-universal.sh scmap_1.31.0.tar.gz /Library/Frameworks/R.framework/Resources/bin/R scmap.buildbin-libdir StartedAt: 2025-05-03 01:04:53 -0400 (Sat, 03 May 2025) EndedAt: 2025-05-03 01:05:49 -0400 (Sat, 03 May 2025) EllapsedTime: 56.6 seconds RetCode: 0 Status: OK PackageFile: scmap_1.31.0.tgz PackageFileSize: 3.37 MiB