Package: scider Version: 1.7.0 Command: /home/biocbuild/bbs-3.22-bioc/R/bin/R CMD INSTALL scider StartedAt: 2025-09-30 15:20:15 -0400 (Tue, 30 Sep 2025) EndedAt: 2025-09-30 15:20:43 -0400 (Tue, 30 Sep 2025) EllapsedTime: 28.0 seconds RetCode: 0 Status: OK