Package: scider Version: 1.5.0 Command: /Library/Frameworks/R.framework/Resources/bin/R CMD build --keep-empty-dirs --no-resave-data scider StartedAt: 2025-01-10 18:10:50 -0500 (Fri, 10 Jan 2025) EndedAt: 2025-01-10 18:12:37 -0500 (Fri, 10 Jan 2025) EllapsedTime: 106.8 seconds RetCode: 0 Status: OK PackageFile: scider_1.5.0.tar.gz PackageFileSize: 2.83 MiB