Package: scider Version: 1.5.0 Command: /home/biocbuild/R/R/bin/R CMD INSTALL scider StartedAt: 2025-01-10 20:32:23 -0000 (Fri, 10 Jan 2025) EndedAt: 2025-01-10 20:33:01 -0000 (Fri, 10 Jan 2025) EllapsedTime: 38.1 seconds RetCode: 0 Status: OK