Package: schex Version: 1.23.0 Command: /home/biocbuild/R/R/bin/R CMD INSTALL schex StartedAt: 2025-10-23 20:42:58 -0000 (Thu, 23 Oct 2025) EndedAt: 2025-10-23 20:43:32 -0000 (Thu, 23 Oct 2025) EllapsedTime: 34.2 seconds RetCode: 0 Status: OK