Package: schex Version: 1.23.0 Command: /home/biocbuild/R/R/bin/R CMD build --keep-empty-dirs --no-resave-data schex StartedAt: 2025-10-21 02:54:56 -0000 (Tue, 21 Oct 2025) EndedAt: 2025-10-21 02:57:07 -0000 (Tue, 21 Oct 2025) EllapsedTime: 131.1 seconds RetCode: 0 Status: OK PackageFile: schex_1.23.0.tar.gz PackageFileSize: 2.904 MiB