Package: schex Version: 1.23.0 Command: rm -rf schex.buildbin-libdir && mkdir schex.buildbin-libdir && F:\biocbuild\bbs-3.22-bioc\R\bin\R.exe CMD INSTALL --build --library=schex.buildbin-libdir schex_1.23.0.tar.gz StartedAt: 2025-08-15 11:15:24 -0400 (Fri, 15 Aug 2025) EndedAt: 2025-08-15 11:16:03 -0400 (Fri, 15 Aug 2025) EllapsedTime: 39.1 seconds RetCode: 0 Status: OK PackageFile: schex_1.23.0.zip PackageFileSize: 1.604 MiB