Package: scds Version: 1.23.0 Command: /home/biocbuild/bbs-3.21-bioc/R/bin/R CMD INSTALL scds StartedAt: 2025-02-14 15:17:34 -0500 (Fri, 14 Feb 2025) EndedAt: 2025-02-14 15:17:58 -0500 (Fri, 14 Feb 2025) EllapsedTime: 24.3 seconds RetCode: 0 Status: OK