Package: scde Version: 2.35.0 Command: E:\biocbuild\bbs-3.21-bioc\R\bin\R.exe CMD check --no-multiarch --install=check:scde.install-out.txt --library=E:\biocbuild\bbs-3.21-bioc\R\library --no-vignettes --timings scde_2.35.0.tar.gz StartedAt: 2025-02-17 04:51:49 -0500 (Mon, 17 Feb 2025) EndedAt: 2025-02-17 04:54:45 -0500 (Mon, 17 Feb 2025) EllapsedTime: 176.2 seconds RetCode: 0 Status: WARNINGS CheckDir: scde.Rcheck Warnings: 2