Package: scde Version: 2.35.0 Command: chmod a+r scde -R && E:\biocbuild\bbs-3.21-bioc\R\bin\R.exe CMD build --keep-empty-dirs --no-resave-data scde StartedAt: 2025-02-16 21:18:49 -0500 (Sun, 16 Feb 2025) EndedAt: 2025-02-16 21:18:55 -0500 (Sun, 16 Feb 2025) EllapsedTime: 5.2 seconds RetCode: 0 Status: OK PackageFile: scde_2.35.0.tar.gz PackageFileSize: 1.059 MiB