Package: scde Version: 2.37.0 Command: /home/biocbuild/bbs-3.22-bioc/R/bin/R CMD INSTALL scde StartedAt: 2025-10-01 15:15:19 -0400 (Wed, 01 Oct 2025) EndedAt: 2025-10-01 15:16:13 -0400 (Wed, 01 Oct 2025) EllapsedTime: 53.8 seconds RetCode: 0 Status: OK