Package: sccomp Version: 2.1.0 Command: /Library/Frameworks/R.framework/Resources/bin/R CMD check --install=check:sccomp.install-out.txt --library=/Library/Frameworks/R.framework/Resources/library --no-vignettes --timings sccomp_2.1.0.tar.gz StartedAt: 2025-05-07 21:45:30 -0400 (Wed, 07 May 2025) EndedAt: 2025-05-07 21:47:03 -0400 (Wed, 07 May 2025) EllapsedTime: 93.0 seconds RetCode: 0 Status: OK CheckDir: sccomp.Rcheck Warnings: 0