Package: sccomp Version: 2.1.0 Command: /Library/Frameworks/R.framework/Resources/bin/R CMD build --keep-empty-dirs --no-resave-data sccomp StartedAt: 2025-05-07 17:35:52 -0400 (Wed, 07 May 2025) EndedAt: 2025-05-07 17:36:22 -0400 (Wed, 07 May 2025) EllapsedTime: 30.3 seconds RetCode: 0 Status: OK PackageFile: sccomp_2.1.0.tar.gz PackageFileSize: 3.403 MiB