Package: scatterHatch Version: 1.15.0 Command: rm -rf scatterHatch.buildbin-libdir && mkdir scatterHatch.buildbin-libdir && F:\biocbuild\bbs-3.22-bioc\R\bin\R.exe CMD INSTALL --build --library=scatterHatch.buildbin-libdir scatterHatch_1.15.0.tar.gz StartedAt: 2025-08-15 11:14:15 -0400 (Fri, 15 Aug 2025) EndedAt: 2025-08-15 11:14:32 -0400 (Fri, 15 Aug 2025) EllapsedTime: 16.9 seconds RetCode: 0 Status: OK PackageFile: scatterHatch_1.15.0.zip PackageFileSize: 1.495 MiB