Package: scatterHatch Version: 1.13.0 Command: /home/biocbuild/bbs-3.21-bioc/R/bin/R CMD build --keep-empty-dirs --no-resave-data scatterHatch StartedAt: 2025-02-04 19:02:45 -0500 (Tue, 04 Feb 2025) EndedAt: 2025-02-04 19:03:29 -0500 (Tue, 04 Feb 2025) EllapsedTime: 44.1 seconds RetCode: 0 Status: OK PackageFile: scatterHatch_1.13.0.tar.gz PackageFileSize: 3.049 MiB