Package: scatterHatch Version: 1.13.0 Command: /Library/Frameworks/R.framework/Resources/bin/R CMD INSTALL scatterHatch StartedAt: 2025-02-05 15:08:40 -0500 (Wed, 05 Feb 2025) EndedAt: 2025-02-05 15:08:52 -0500 (Wed, 05 Feb 2025) EllapsedTime: 11.3 seconds RetCode: 0 Status: OK