Package: scatterHatch Version: 1.13.0 Command: /Library/Frameworks/R.framework/Resources/bin/R CMD check --install=check:scatterHatch.install-out.txt --library=/Library/Frameworks/R.framework/Resources/library --no-vignettes --timings scatterHatch_1.13.0.tar.gz StartedAt: 2025-02-05 23:00:42 -0500 (Wed, 05 Feb 2025) EndedAt: 2025-02-05 23:02:21 -0500 (Wed, 05 Feb 2025) EllapsedTime: 98.7 seconds RetCode: 0 Status: OK CheckDir: scatterHatch.Rcheck Warnings: 0