Package: scatterHatch Version: 1.13.0 Command: rm -rf scatterHatch.buildbin-libdir && mkdir scatterHatch.buildbin-libdir && /Users/biocbuild/BBS/utils/build-universal.sh scatterHatch_1.13.0.tar.gz /Library/Frameworks/R.framework/Resources/bin/R scatterHatch.buildbin-libdir StartedAt: 2025-02-06 00:50:44 -0500 (Thu, 06 Feb 2025) EndedAt: 2025-02-06 00:50:56 -0500 (Thu, 06 Feb 2025) EllapsedTime: 12.7 seconds RetCode: 0 Status: OK PackageFile: scatterHatch_1.13.0.tgz PackageFileSize: 3.902 MiB