Package: scanMiRApp Version: 1.15.0 Command: rm -rf scanMiRApp.buildbin-libdir && mkdir scanMiRApp.buildbin-libdir && F:\biocbuild\bbs-3.22-bioc\R\bin\R.exe CMD INSTALL --build --library=scanMiRApp.buildbin-libdir scanMiRApp_1.15.0.tar.gz StartedAt: 2025-08-15 11:13:57 -0400 (Fri, 15 Aug 2025) EndedAt: 2025-08-15 11:15:11 -0400 (Fri, 15 Aug 2025) EllapsedTime: 74.0 seconds RetCode: 0 Status: OK PackageFile: scanMiRApp_1.15.0.zip PackageFileSize: 1.314 MiB