Package: scafari Version: 0.99.12 Command: /home/biocbuild/bbs-3.22-bioc/R/bin/R CMD build --keep-empty-dirs --no-resave-data --md5 scafari StartedAt: 2025-10-17 19:45:13 -0400 (Fri, 17 Oct 2025) EndedAt: 2025-10-17 19:48:42 -0400 (Fri, 17 Oct 2025) EllapsedTime: 209.2 seconds RetCode: 0 Status: OK PackageFile: scafari_0.99.12.tar.gz PackageFileSize: 7.993 MiB