Package: scTreeViz Version: 1.15.0 Command: /home/biocbuild/bbs-3.22-bioc/R/bin/R CMD check --install=check:scTreeViz.install-out.txt --library=/home/biocbuild/bbs-3.22-bioc/R/site-library --timings scTreeViz_1.15.0.tar.gz StartedAt: 2025-10-29 03:48:58 -0400 (Wed, 29 Oct 2025) EndedAt: 2025-10-29 03:58:34 -0400 (Wed, 29 Oct 2025) EllapsedTime: 575.6 seconds RetCode: 0 Status: OK CheckDir: scTreeViz.Rcheck Warnings: 0