Package: scTreeViz Version: 1.15.0 Command: rm -rf scTreeViz.buildbin-libdir && mkdir scTreeViz.buildbin-libdir && /Users/biocbuild/BBS/utils/build-universal.sh scTreeViz_1.15.0.tar.gz /Library/Frameworks/R.framework/Resources/bin/R scTreeViz.buildbin-libdir StartedAt: 2025-05-09 22:57:02 -0400 (Fri, 09 May 2025) EndedAt: 2025-05-09 22:57:35 -0400 (Fri, 09 May 2025) EllapsedTime: 32.6 seconds RetCode: 0 Status: OK PackageFile: scTreeViz_1.15.0.tgz PackageFileSize: 2.628 MiB