Package: scTensor Version: 2.19.0 Maintainer: Koki Tsuyuzaki MaintainerEmail: k.t.the-answer at hotmail.co.jp git_url: https://git.bioconductor.org/packages/scTensor git_branch: devel git_last_commit: 6c65b1e git_last_commit_date: 2025-04-15 11:39:28 -0400 (Tue, 15 Apr 2025)