Package: scTHI Version: 1.19.0 Command: E:\biocbuild\bbs-3.21-bioc\R\bin\R.exe CMD INSTALL scTHI StartedAt: 2025-02-03 15:52:03 -0500 (Mon, 03 Feb 2025) EndedAt: 2025-02-03 15:52:11 -0500 (Mon, 03 Feb 2025) EllapsedTime: 8.2 seconds RetCode: 0 Status: OK