Package: scTHI Version: 1.19.0 Command: chmod a+r scTHI -R && E:\biocbuild\bbs-3.21-bioc\R\bin\R.exe CMD build --keep-empty-dirs --no-resave-data scTHI StartedAt: 2025-02-03 21:47:06 -0500 (Mon, 03 Feb 2025) EndedAt: 2025-02-03 21:48:34 -0500 (Mon, 03 Feb 2025) EllapsedTime: 87.9 seconds RetCode: 0 Status: OK PackageFile: scTHI_1.19.0.tar.gz PackageFileSize: 530.5 KiB