Package: scTHI Version: 1.19.0 Command: /Library/Frameworks/R.framework/Resources/bin/R CMD build --keep-empty-dirs --no-resave-data scTHI StartedAt: 2025-02-03 18:20:18 -0500 (Mon, 03 Feb 2025) EndedAt: 2025-02-03 18:21:33 -0500 (Mon, 03 Feb 2025) EllapsedTime: 74.3 seconds RetCode: 0 Status: OK PackageFile: scTHI_1.19.0.tar.gz PackageFileSize: 905.4 KiB