Package: scTHI Version: 1.19.0 Command: /home/biocbuild/R/R/bin/R CMD build --keep-empty-dirs --no-resave-data scTHI StartedAt: 2025-01-29 02:14:43 -0000 (Wed, 29 Jan 2025) EndedAt: 2025-01-29 02:16:25 -0000 (Wed, 29 Jan 2025) EllapsedTime: 102.1 seconds RetCode: 0 Status: OK PackageFile: scTHI_1.19.0.tar.gz PackageFileSize: 553.9 KiB