Package: scTGIF Version: 1.21.0 Command: E:\biocbuild\bbs-3.21-bioc\R\bin\R.exe CMD check --no-multiarch --install=check:scTGIF.install-out.txt --library=E:\biocbuild\bbs-3.21-bioc\R\library --no-vignettes --timings scTGIF_1.21.0.tar.gz StartedAt: 2025-02-19 05:09:40 -0500 (Wed, 19 Feb 2025) EndedAt: 2025-02-19 05:14:42 -0500 (Wed, 19 Feb 2025) EllapsedTime: 302.1 seconds RetCode: 0 Status: OK CheckDir: scTGIF.Rcheck Warnings: 0