Package: scTGIF Version: 1.21.0 Command: /Library/Frameworks/R.framework/Resources/bin/R CMD build --keep-empty-dirs --no-resave-data scTGIF StartedAt: 2025-02-19 17:35:30 -0500 (Wed, 19 Feb 2025) EndedAt: 2025-02-19 17:35:59 -0500 (Wed, 19 Feb 2025) EllapsedTime: 29.3 seconds RetCode: 0 Status: OK PackageFile: scTGIF_1.21.0.tar.gz PackageFileSize: 2.411 MiB