Package: scRepertoire Version: 2.3.2 Command: E:\biocbuild\bbs-3.21-bioc\R\bin\R.exe CMD INSTALL scRepertoire StartedAt: 2025-02-02 16:36:55 -0500 (Sun, 02 Feb 2025) EndedAt: 2025-02-02 16:38:36 -0500 (Sun, 02 Feb 2025) EllapsedTime: 101.6 seconds RetCode: 0 Status: OK