Package: scRepertoire Version: 2.3.2 Command: E:\biocbuild\bbs-3.21-bioc\R\bin\R.exe CMD check --no-multiarch --install=check:scRepertoire.install-out.txt --library=E:\biocbuild\bbs-3.21-bioc\R\library --no-vignettes --timings scRepertoire_2.3.2.tar.gz StartedAt: 2025-02-03 05:04:21 -0500 (Mon, 03 Feb 2025) EndedAt: 2025-02-03 05:14:31 -0500 (Mon, 03 Feb 2025) EllapsedTime: 609.7 seconds RetCode: 0 Status: OK CheckDir: scRepertoire.Rcheck Warnings: 0