Package: scRepertoire Version: 2.3.2 Command: chmod a+r scRepertoire -R && E:\biocbuild\bbs-3.21-bioc\R\bin\R.exe CMD build --keep-empty-dirs --no-resave-data scRepertoire StartedAt: 2025-02-02 21:28:12 -0500 (Sun, 02 Feb 2025) EndedAt: 2025-02-02 21:35:15 -0500 (Sun, 02 Feb 2025) EllapsedTime: 422.9 seconds RetCode: 0 Status: OK PackageFile: scRepertoire_2.3.2.tar.gz PackageFileSize: 18.14 MiB