Package: scRepertoire Version: 2.5.0 Command: /Library/Frameworks/R.framework/Resources/bin/R CMD INSTALL scRepertoire StartedAt: 2025-05-09 15:22:28 -0400 (Fri, 09 May 2025) EndedAt: 2025-05-09 15:23:49 -0400 (Fri, 09 May 2025) EllapsedTime: 80.6 seconds RetCode: 0 Status: OK