Package: scRepertoire Version: 2.5.2 Maintainer: Nick Borcherding MaintainerEmail: ncborch at gmail.com git_url: https://git.bioconductor.org/packages/scRepertoire git_branch: devel git_last_commit: d5c8699 git_last_commit_date: 2025-05-27 10:38:16 -0400 (Tue, 27 May 2025)