Package: scReClassify Version: 1.15.0 Maintainer: Taiyun Kim MaintainerEmail: taiyun.kim91 at gmail.com git_url: https://git.bioconductor.org/packages/scReClassify git_branch: devel git_last_commit: cb28cea git_last_commit_date: 2025-04-15 12:38:16 -0400 (Tue, 15 Apr 2025)