Package: scQTLtools Version: 0.99.11 Command: E:\biocbuild\bbs-3.21-bioc\R\bin\R.exe CMD INSTALL scQTLtools StartedAt: 2025-02-05 16:39:54 -0500 (Wed, 05 Feb 2025) EndedAt: 2025-02-05 16:41:09 -0500 (Wed, 05 Feb 2025) EllapsedTime: 75.4 seconds RetCode: 0 Status: OK