Package: scQTLtools Version: 0.99.11 Command: E:\biocbuild\bbs-3.21-bioc\R\bin\R.exe CMD check --no-multiarch --install=check:scQTLtools.install-out.txt --library=E:\biocbuild\bbs-3.21-bioc\R\library --no-vignettes --timings scQTLtools_0.99.11.tar.gz StartedAt: 2025-02-06 05:42:24 -0500 (Thu, 06 Feb 2025) EndedAt: 2025-02-06 05:52:41 -0500 (Thu, 06 Feb 2025) EllapsedTime: 617.7 seconds RetCode: 0 Status: OK CheckDir: scQTLtools.Rcheck Warnings: 0