Package: scQTLtools Version: 0.99.11 Command: chmod a+r scQTLtools -R && E:\biocbuild\bbs-3.21-bioc\R\bin\R.exe CMD build --keep-empty-dirs --no-resave-data scQTLtools StartedAt: 2025-02-05 21:36:43 -0500 (Wed, 05 Feb 2025) EndedAt: 2025-02-05 21:38:51 -0500 (Wed, 05 Feb 2025) EllapsedTime: 128.0 seconds RetCode: 0 Status: OK PackageFile: scQTLtools_0.99.11.tar.gz PackageFileSize: 1.91 MiB