Package: scQTLtools Version: 0.99.11 Command: rm -rf scQTLtools.buildbin-libdir && mkdir scQTLtools.buildbin-libdir && E:\biocbuild\bbs-3.21-bioc\R\bin\R.exe CMD INSTALL --build --library=scQTLtools.buildbin-libdir scQTLtools_0.99.11.tar.gz StartedAt: 2025-02-04 08:52:56 -0500 (Tue, 04 Feb 2025) EndedAt: 2025-02-04 08:54:53 -0500 (Tue, 04 Feb 2025) EllapsedTime: 116.8 seconds RetCode: 0 Status: OK PackageFile: scQTLtools_0.99.11.zip PackageFileSize: 1.938 MiB